BEGIN:VCALENDAR
VERSION:2.0
PRODID:-//Plataforma Custodia TerritorioCustodia del territorio FB - ECPv6.15.20//NONSGML v1.0//EN
CALSCALE:GREGORIAN
METHOD:PUBLISH
X-WR-CALNAME:Plataforma Custodia TerritorioCustodia del territorio FB
X-ORIGINAL-URL:https://www.custodia-territorio.es
X-WR-CALDESC:Eventos para Plataforma Custodia TerritorioCustodia del territorio FB
REFRESH-INTERVAL;VALUE=DURATION:PT1H
X-Robots-Tag:noindex
X-PUBLISHED-TTL:PT1H
BEGIN:VTIMEZONE
TZID:Europe/Madrid
BEGIN:DAYLIGHT
TZOFFSETFROM:+0100
TZOFFSETTO:+0200
TZNAME:CEST
DTSTART:20240331T010000
END:DAYLIGHT
BEGIN:STANDARD
TZOFFSETFROM:+0200
TZOFFSETTO:+0100
TZNAME:CET
DTSTART:20241027T010000
END:STANDARD
BEGIN:DAYLIGHT
TZOFFSETFROM:+0100
TZOFFSETTO:+0200
TZNAME:CEST
DTSTART:20250330T010000
END:DAYLIGHT
BEGIN:STANDARD
TZOFFSETFROM:+0200
TZOFFSETTO:+0100
TZNAME:CET
DTSTART:20251026T010000
END:STANDARD
BEGIN:DAYLIGHT
TZOFFSETFROM:+0100
TZOFFSETTO:+0200
TZNAME:CEST
DTSTART:20260329T010000
END:DAYLIGHT
BEGIN:STANDARD
TZOFFSETFROM:+0200
TZOFFSETTO:+0100
TZNAME:CET
DTSTART:20261025T010000
END:STANDARD
BEGIN:DAYLIGHT
TZOFFSETFROM:+0100
TZOFFSETTO:+0200
TZNAME:CEST
DTSTART:20270328T010000
END:DAYLIGHT
BEGIN:STANDARD
TZOFFSETFROM:+0200
TZOFFSETTO:+0100
TZNAME:CET
DTSTART:20271031T010000
END:STANDARD
END:VTIMEZONE
BEGIN:VEVENT
DTSTART;TZID=Europe/Madrid:20250923T090000
DTEND;TZID=Europe/Madrid:20250924T140000
DTSTAMP:20260422T014858
CREATED:20250901T131319Z
LAST-MODIFIED:20251020T120520Z
UID:10000010-1758618000-1758722400@www.custodia-territorio.es
SUMMARY:SIMPOSIO INTERNACIONAL WEGOCOOP “+BIODIVERSIDAD: POR  LOS HUMEDALES EN ANDALUCIA +GOBERNANZA”
DESCRIPTION:Programa\n  \nFormulario de inscripción aquí.
URL:https://www.custodia-territorio.es/event/wegocoop-simposio-biodiversidad-por-los-humedales-en-andalucia-gobernanza/
LOCATION:Facultad de Ciencias del Mar y Ambientales\, Puerto Real\, Cádiz
ATTACH;FMTTYPE=image/png:https://www.custodia-territorio.es/wp-content/uploads/2025/07/simposio-wegocoop.png
END:VEVENT
BEGIN:VEVENT
DTSTART;TZID=Europe/Madrid:20251024T160000
DTEND;TZID=Europe/Madrid:20251025T140000
DTSTAMP:20260422T014858
CREATED:20251023T115432Z
LAST-MODIFIED:20251023T115432Z
UID:10000012-1761321600-1761400800@www.custodia-territorio.es
SUMMARY:JORNADAS DE CUSTODIA DEL TERRITORIO EN EL VALLE DE ARIDANE\, LA PALMA
DESCRIPTION:Programa\n  \nFormulario de inscripción aquí.
URL:https://www.custodia-territorio.es/event/jornadas-de-custodia-del-territorio-en-el-valle-de-aridane-la-palma/
ATTACH;FMTTYPE=image/jpeg:https://www.custodia-territorio.es/wp-content/uploads/2025/10/Jornadas-La-Palma.jpg
ORGANIZER;CN="Fundaci%C3%B3n Canaria Reserva Mundial de la Biosfera La Palma":MAILTO:proyectoaridane@fg.ull.es
END:VEVENT
BEGIN:VEVENT
DTSTART;TZID=Europe/Madrid:20251028T100000
DTEND;TZID=Europe/Madrid:20251028T120000
DTSTAMP:20260422T014858
CREATED:20251020T114848Z
LAST-MODIFIED:20251020T120743Z
UID:10000011-1761645600-1761652800@www.custodia-territorio.es
SUMMARY:TALLER ASPECTOS NORMATIVOS Y ADMINISTRATIVOS DE LA CUSTODIA DEL TERRITORIO PARA ENTIDADES LOCALES
DESCRIPTION:Programa\n  \nFormulario de inscripción aquí.
URL:https://www.custodia-territorio.es/event/taller-aspectos-normativos-y-administrativos-de-la-custodia-del-territorio-para-entidades-locales/
ATTACH;FMTTYPE=image/jpeg:https://www.custodia-territorio.es/wp-content/uploads/2025/10/Taller-FEMP-28-octubre.jpg
LOCATION:https://www.custodia-territorio.es/event/taller-aspectos-normativos-y-administrativos-de-la-custodia-del-territorio-para-entidades-locales/
END:VEVENT
BEGIN:VEVENT
DTSTART;TZID=Europe/Madrid:20251105T100000
DTEND;TZID=Europe/Madrid:20251105T140000
DTSTAMP:20260422T014858
CREATED:20251027T103900Z
LAST-MODIFIED:20251027T152112Z
UID:10000013-1762336800-1762351200@www.custodia-territorio.es
SUMMARY:BIO+A MÁLAGA Custodia del Territorio y Bioeconomía
DESCRIPTION:Programa\n  \nFormulario de inscripción aquí.
URL:https://www.custodia-territorio.es/event/bioa-malaga-custodia-del-territorio-y-bioeconomia/
LOCATION:Sede de la Mancomunidad de Municipios de Sierra de las Nieves (Tolox)\, Paraje Las Millanas\, s/n\, Tolox\, Málaga 29109\, Spain
ATTACH;FMTTYPE=image/png:https://www.custodia-territorio.es/wp-content/uploads/2025/10/BioA-Malaga.png
END:VEVENT
BEGIN:VEVENT
DTSTART;TZID=Europe/Madrid:20251111T103000
DTEND;TZID=Europe/Madrid:20251111T170000
DTSTAMP:20260422T014858
CREATED:20251106T101504Z
LAST-MODIFIED:20251106T101504Z
UID:10000014-1762857000-1762880400@www.custodia-territorio.es
SUMMARY:La custòdia del territori des de l’àmbit municipal: experiències d’èxit a la demarcació de Lleida
DESCRIPTION:Programa\n  \nFormulario de inscripción aquí.
URL:https://www.custodia-territorio.es/event/la-custodia-del-territori-des-de-lambit-municipal-experiencies-dexit-a-la-demarcacio-de-lleida/
LOCATION:Palau de Congressos Municipal – La Llotja de Lleida\, Avinguda de Tortosa\, 4\, Lleida\, Lleida\, 25005
ATTACH;FMTTYPE=image/png:https://www.custodia-territorio.es/wp-content/uploads/2025/11/La-custodia-del-territori-des-de-lambit-municipal.-Lleida.png
END:VEVENT
BEGIN:VEVENT
DTSTART;TZID=Europe/Madrid:20251120T100000
DTEND;TZID=Europe/Madrid:20251120T130000
DTSTAMP:20260422T014858
CREATED:20251117T081626Z
LAST-MODIFIED:20251117T081626Z
UID:10000015-1763632800-1763643600@www.custodia-territorio.es
SUMMARY:Jornada final del proyecto CustForest
DESCRIPTION:Programa\n  \nFormulario de inscripción aquí.
URL:https://www.custodia-territorio.es/event/jornada-final-del-proyecto-custforest/
LOCATION:Sala de Grados II\, Facultad de Ciencias\, UAB (Cerdanyola del Vallès) y online
ATTACH;FMTTYPE=image/png:https://www.custodia-territorio.es/wp-content/uploads/2025/11/CustForest-jornada-final.png
END:VEVENT
BEGIN:VEVENT
DTSTART;TZID=Europe/Madrid:20260219T100000
DTEND;TZID=Europe/Madrid:20260320T130000
DTSTAMP:20260422T014858
CREATED:20260217T150047Z
LAST-MODIFIED:20260217T150402Z
UID:10000017-1771495200-1774011600@www.custodia-territorio.es
SUMMARY:Formación “Biodiversidad agraria y custodia del territorio”
DESCRIPTION:Programa\n  \nInscripción
URL:https://www.custodia-territorio.es/event/formacion-biodiversidad-agraria-y-custodia-del-territorio/
LOCATION:Montilla (Córdoba)
ATTACH;FMTTYPE=image/png:https://www.custodia-territorio.es/wp-content/uploads/2026/02/Horizonte-campina.png
END:VEVENT
BEGIN:VEVENT
DTSTART;TZID=Europe/Madrid:20260325T160000
DTEND;TZID=Europe/Madrid:20260327T210000
DTSTAMP:20260422T014858
CREATED:20260318T153859Z
LAST-MODIFIED:20260324T111754Z
UID:10000018-1774454400-1774645200@www.custodia-territorio.es
SUMMARY:52 CONGRESO NACIONAL DE PARQUES Y JARDINES PÚBLICOS
DESCRIPTION:La custodia del territorio como herramienta de conservación. \nSesión en el PARJAP. BLOQUE IV. GESTIÓN COLABORATIVA DE ESPACIOS PATRIMONIALES. \nFecha: 27 de marzo de 2026. 10:30-11:15 \nPrograma\n  \nInscripción
URL:https://www.custodia-territorio.es/event/52-congreso-nacional-de-parques-y-jardines-publicos/
LOCATION:DHub Barcelona\, Plaza de las Glòries Catalanes
ATTACH;FMTTYPE=image/png:https://www.custodia-territorio.es/wp-content/uploads/2026/03/PARJAP.png
END:VEVENT
BEGIN:VEVENT
DTSTART;TZID=Europe/Madrid:20260603T143000
DTEND;TZID=Europe/Madrid:20260607T090000
DTSTAMP:20260422T014858
CREATED:20251210T130520Z
LAST-MODIFIED:20260324T111936Z
UID:10000016-1780497000-1780822800@www.custodia-territorio.es
SUMMARY:ESPARC 2026
DESCRIPTION:Programa\n  \n 
URL:https://www.custodia-territorio.es/event/xxiii-congreso-esparc-2026/
LOCATION:Posada de Valdeón (León)
ATTACH;FMTTYPE=image/png:https://www.custodia-territorio.es/wp-content/uploads/2025/12/ESPARC2026-3.png
END:VEVENT
BEGIN:VEVENT
DTSTART;TZID=Europe/Madrid:20260605T083000
DTEND;TZID=Europe/Madrid:20260605T140000
DTSTAMP:20260422T014858
CREATED:20260416T085726Z
LAST-MODIFIED:20260416T090439Z
UID:10000020-1780648200-1780668000@www.custodia-territorio.es
SUMMARY:Workshop "Pulso Rural" sobre Capital Natural y Custodia del territorio
DESCRIPTION:Programa\n  \n 
URL:https://www.custodia-territorio.es/event/workshop-pulso-rural-sobre-capital-natural-y-custodia-del-territorio/
LOCATION:Argelita (Castellón)
ATTACH;FMTTYPE=image/jpeg:https://www.custodia-territorio.es/wp-content/uploads/2026/04/Workshop-Pulso-Rural-sobre-Capital-Natural-y-Custodia-del-territorio.jpg
END:VEVENT
BEGIN:VEVENT
DTSTART;TZID=Europe/Madrid:20261016T090000
DTEND;TZID=Europe/Madrid:20261017T190000
DTSTAMP:20260422T014858
CREATED:20260416T084444Z
LAST-MODIFIED:20260416T085833Z
UID:10000019-1792141200-1792263600@www.custodia-territorio.es
SUMMARY:I Jornada de Capital Natural y Custodia del Territorio con enfoque de género
DESCRIPTION:Programa\n  \n 
URL:https://www.custodia-territorio.es/event/i-jornada-de-capital-natural-y-custodia-del-territorio-con-enfoque-de-genero/
LOCATION:Morella (Castellón)\, Salones Góticos\, Ayuntamiento de Morella
ATTACH;FMTTYPE=image/jpeg:https://www.custodia-territorio.es/wp-content/uploads/2026/04/Jornada-de-Capital-Natural-y-Custodia-del-Territorio-con-enfoque-de-genero.jpg
END:VEVENT
END:VCALENDAR